BEGIN:VCALENDAR
VERSION:2.0
PRODID:-//Bronkberry Farms - ECPv6.15.20//NONSGML v1.0//EN
CALSCALE:GREGORIAN
METHOD:PUBLISH
X-ORIGINAL-URL:https://bronkberryfarms.com
X-WR-CALDESC:Events for Bronkberry Farms
REFRESH-INTERVAL;VALUE=DURATION:PT1H
X-Robots-Tag:noindex
X-PUBLISHED-TTL:PT1H
BEGIN:VTIMEZONE
TZID:America/Chicago
BEGIN:DAYLIGHT
TZOFFSETFROM:-0600
TZOFFSETTO:-0500
TZNAME:CDT
DTSTART:20210314T080000
END:DAYLIGHT
BEGIN:STANDARD
TZOFFSETFROM:-0500
TZOFFSETTO:-0600
TZNAME:CST
DTSTART:20211107T070000
END:STANDARD
BEGIN:DAYLIGHT
TZOFFSETFROM:-0600
TZOFFSETTO:-0500
TZNAME:CDT
DTSTART:20220313T080000
END:DAYLIGHT
BEGIN:STANDARD
TZOFFSETFROM:-0500
TZOFFSETTO:-0600
TZNAME:CST
DTSTART:20221106T070000
END:STANDARD
BEGIN:DAYLIGHT
TZOFFSETFROM:-0600
TZOFFSETTO:-0500
TZNAME:CDT
DTSTART:20230312T080000
END:DAYLIGHT
BEGIN:STANDARD
TZOFFSETFROM:-0500
TZOFFSETTO:-0600
TZNAME:CST
DTSTART:20231105T070000
END:STANDARD
END:VTIMEZONE
BEGIN:VEVENT
DTSTART;TZID=America/Chicago:20220820T100000
DTEND;TZID=America/Chicago:20220820T110000
DTSTAMP:20260421T180040
CREATED:20220817T024145Z
LAST-MODIFIED:20220820T045054Z
UID:23030-1660989600-1660993200@bronkberryfarms.com
SUMMARY:Kids’ Craft: Pine Cone Bird Feeders
DESCRIPTION:Join us for a fun project\, perfect for even the youngest crafters and nature lovers! A pine cone bird feeder is a great way to add an instant feeding station to your yard. Who doesn’t love watching a little wildlife in their backyard? \nHome Extension Activities:  \n-Incorporate science by identifying the different types of birds that come to your feeder.  \n-Practice math skills by counting the number of birds coming to your feeder. You can also practice addition and subtraction skills as the birds come and go. \nWe are  experiencing some issues with our online payment system. \nPlease complete the form below to register and pay at the door for the class: Pine Cone Bird Feeder Registration Form
URL:https://bronkberryfarms.com/event/kids-craft-pine-cone-bird-feeders/
LOCATION:Bronkberry Farms & Greenhouse\, 18061 Bronk Rd\, Plainfield\, IL 60586\, USA
END:VEVENT
END:VCALENDAR