BEGIN:VCALENDAR
VERSION:2.0
PRODID:-//Bronkberry Farms - ECPv6.15.20//NONSGML v1.0//EN
CALSCALE:GREGORIAN
METHOD:PUBLISH
X-WR-CALNAME:Bronkberry Farms
X-ORIGINAL-URL:https://bronkberryfarms.com
X-WR-CALDESC:Events for Bronkberry Farms
REFRESH-INTERVAL;VALUE=DURATION:PT1H
X-Robots-Tag:noindex
X-PUBLISHED-TTL:PT1H
BEGIN:VTIMEZONE
TZID:America/Chicago
BEGIN:DAYLIGHT
TZOFFSETFROM:-0600
TZOFFSETTO:-0500
TZNAME:CDT
DTSTART:20230312T080000
END:DAYLIGHT
BEGIN:STANDARD
TZOFFSETFROM:-0500
TZOFFSETTO:-0600
TZNAME:CST
DTSTART:20231105T070000
END:STANDARD
BEGIN:DAYLIGHT
TZOFFSETFROM:-0600
TZOFFSETTO:-0500
TZNAME:CDT
DTSTART:20240310T080000
END:DAYLIGHT
BEGIN:STANDARD
TZOFFSETFROM:-0500
TZOFFSETTO:-0600
TZNAME:CST
DTSTART:20241103T070000
END:STANDARD
BEGIN:DAYLIGHT
TZOFFSETFROM:-0600
TZOFFSETTO:-0500
TZNAME:CDT
DTSTART:20250309T080000
END:DAYLIGHT
BEGIN:STANDARD
TZOFFSETFROM:-0500
TZOFFSETTO:-0600
TZNAME:CST
DTSTART:20251102T070000
END:STANDARD
END:VTIMEZONE
BEGIN:VEVENT
DTSTART;TZID=America/Chicago:20241029T093000
DTEND;TZID=America/Chicago:20241029T143000
DTSTAMP:20260423T095303
CREATED:20240731T210043Z
LAST-MODIFIED:20241029T225806Z
UID:27036-1730194200-1730212200@bronkberryfarms.com
SUMMARY:Coffee N Repeat Pop-Up
DESCRIPTION:Come grab your favorite hot/iced coffee drink or smoothie (and more!) and enjoy all that Bronkberry Farms has to offer! \nAlthough not required\, if you would like to pre-order to pick up at a designated time\, you may do so here:https://coffee-n-repeat.square.site/ \nFacebook Event Link:https://www.facebook.com/share/jXnADyrJHpidwRGt/ \n***You do not need tickets for this event. Anyone selling tickets is a scammer. Please report them to Facebook or let us know.
URL:https://bronkberryfarms.com/event/coffee-n-repeat-pop-up-96/
LOCATION:Bronkberry Farms & Greenhouse\, 18059 Bronk Rd\, Joliet\, IL\, United States
END:VEVENT
BEGIN:VEVENT
DTSTART;TZID=America/Chicago:20241029T160000
DTEND;TZID=America/Chicago:20241029T190000
DTSTAMP:20260423T095303
CREATED:20240926T214645Z
LAST-MODIFIED:20241029T225806Z
UID:27386-1730217600-1730228400@bronkberryfarms.com
SUMMARY:Cousins Maine Lobster truck at Bronkberry Farms
DESCRIPTION:Back by popular demand\, Cousins Maine Lobster will be at Bronkberry Farms one more time before the close of the 2024 season! \nCome get a delicious lobster roll or lobster tots\, and while you’re here\, check out our selection of fall flowers\, farm-fresh produce\, pumpkin patch\, and visit the chickens and goats!
URL:https://bronkberryfarms.com/event/cousins-maine-lobster-truck-at-bronkberry-farms/
LOCATION:Bronkberry Farms & Greenhouse\, 18059 Bronk Rd\, Joliet\, IL\, United States
ATTACH;FMTTYPE=image/jpeg:https://bronkberryfarms.com/wp-content/uploads/2024/09/lobster-truck-oct-2024.jpg
END:VEVENT
END:VCALENDAR