BEGIN:VCALENDAR
VERSION:2.0
PRODID:-//Bronkberry Farms - ECPv6.15.20//NONSGML v1.0//EN
CALSCALE:GREGORIAN
METHOD:PUBLISH
X-ORIGINAL-URL:https://bronkberryfarms.com
X-WR-CALDESC:Events for Bronkberry Farms
REFRESH-INTERVAL;VALUE=DURATION:PT1H
X-Robots-Tag:noindex
X-PUBLISHED-TTL:PT1H
BEGIN:VTIMEZONE
TZID:America/Chicago
BEGIN:DAYLIGHT
TZOFFSETFROM:-0600
TZOFFSETTO:-0500
TZNAME:CDT
DTSTART:20240310T080000
END:DAYLIGHT
BEGIN:STANDARD
TZOFFSETFROM:-0500
TZOFFSETTO:-0600
TZNAME:CST
DTSTART:20241103T070000
END:STANDARD
BEGIN:DAYLIGHT
TZOFFSETFROM:-0600
TZOFFSETTO:-0500
TZNAME:CDT
DTSTART:20250309T080000
END:DAYLIGHT
BEGIN:STANDARD
TZOFFSETFROM:-0500
TZOFFSETTO:-0600
TZNAME:CST
DTSTART:20251102T070000
END:STANDARD
BEGIN:DAYLIGHT
TZOFFSETFROM:-0600
TZOFFSETTO:-0500
TZNAME:CDT
DTSTART:20260308T080000
END:DAYLIGHT
BEGIN:STANDARD
TZOFFSETFROM:-0500
TZOFFSETTO:-0600
TZNAME:CST
DTSTART:20261101T070000
END:STANDARD
END:VTIMEZONE
BEGIN:VEVENT
DTSTART;TZID=America/Chicago:20250627T120000
DTEND;TZID=America/Chicago:20250627T140000
DTSTAMP:20260422T123536
CREATED:20250531T044125Z
LAST-MODIFIED:20250531T063003Z
UID:28320-1751025600-1751032800@bronkberryfarms.com
SUMMARY:Pressed Floral Frame Workshop
DESCRIPTION:Come join The Vibrant Petal at Bronkberry Farms for a fun and creative workshop where you’ll learn how to make beautiful pressed floral frames!\nDive into your creativity\, makes something beautiful and enjoy some time relaxing. This event is BYOB. So come on over sip\, create…repeat!\nNo prior experience required and all supplies will be provided. Bring a beverage and a friend!\n\nFriday June 27th: 5:00-7:00pmLocation: Bronkberry Farms & Greenhouse18061 Bronk Road Plainfield\, IL 60586
URL:https://bronkberryfarms.com/event/pressed-floral-frame-workshop/
LOCATION:Bronkberry Farms & Greenhouse\, 18061 Bronk Rd\, Plainfield\, IL 60586\, USA
ATTACH;FMTTYPE=image/png:https://bronkberryfarms.com/wp-content/uploads/2025/05/BRONKBERRY-COVER-PHOTOS-11.png
END:VEVENT
END:VCALENDAR