BEGIN:VCALENDAR
VERSION:2.0
PRODID:-//Bronkberry Farms - ECPv6.15.20//NONSGML v1.0//EN
CALSCALE:GREGORIAN
METHOD:PUBLISH
X-WR-CALNAME:Bronkberry Farms
X-ORIGINAL-URL:https://bronkberryfarms.com
X-WR-CALDESC:Events for Bronkberry Farms
REFRESH-INTERVAL;VALUE=DURATION:PT1H
X-Robots-Tag:noindex
X-PUBLISHED-TTL:PT1H
BEGIN:VTIMEZONE
TZID:America/Chicago
BEGIN:DAYLIGHT
TZOFFSETFROM:-0600
TZOFFSETTO:-0500
TZNAME:CDT
DTSTART:20240310T080000
END:DAYLIGHT
BEGIN:STANDARD
TZOFFSETFROM:-0500
TZOFFSETTO:-0600
TZNAME:CST
DTSTART:20241103T070000
END:STANDARD
BEGIN:DAYLIGHT
TZOFFSETFROM:-0600
TZOFFSETTO:-0500
TZNAME:CDT
DTSTART:20250309T080000
END:DAYLIGHT
BEGIN:STANDARD
TZOFFSETFROM:-0500
TZOFFSETTO:-0600
TZNAME:CST
DTSTART:20251102T070000
END:STANDARD
BEGIN:DAYLIGHT
TZOFFSETFROM:-0600
TZOFFSETTO:-0500
TZNAME:CDT
DTSTART:20260308T080000
END:DAYLIGHT
BEGIN:STANDARD
TZOFFSETFROM:-0500
TZOFFSETTO:-0600
TZNAME:CST
DTSTART:20261101T070000
END:STANDARD
END:VTIMEZONE
BEGIN:VEVENT
DTSTART;TZID=America/Chicago:20250720T090000
DTEND;TZID=America/Chicago:20250720T150000
DTSTAMP:20260422T091233
CREATED:20241125T033217Z
LAST-MODIFIED:20250721T005232Z
UID:27599-1753002000-1753023600@bronkberryfarms.com
SUMMARY:Monthly Craft & Vendor Fair
DESCRIPTION:Every 3rd Sunday during the months of May thru October at Bronkberry Farms\, vendors from the Chicagoland area and beyond come to showcase\, share\, and sell their unique products to the community! Come see what our talented crafters and vendors have to offer this season! \nCraft & Vendor Fair Admission is ALWAYS FREE! \nWe also host a variety of other events throughout the season. See our EVENT CALENDAR for more information. \n2025 CRAFT & VENDOR FAIR DATES \nEvery 3rd Sunday of the month\, May thru October\, 9am-3pm \n\n May 18\nJune 15\nJuly 20\nAugust 17\nSeptember 21\nOctober 11 & 12 – Fall Fest – 2-Day Event\nOctober 19\nOctober 26 – Last Hurrah craft fair (9am-5pm)\, Chili cook-off (3-5pm) – not included in “full-season” bundle\n\n2025 DOG DAYS CRAFT & VENDOR FAIR \nEvery season\, we have a DOG DAYS event in which customers can bring their dogs along (on a leash\, please) to shop our vendors\, many of them dog-themed! There will even be dogs available for adoption! \n\nJuly 13\, 9am-3pm\n\n2025 BUSINESS EXPO \nJoin us to support local businesses. Come talk with vendors of all types of local businesses from home improvement to wellness to event planning and much more! \n\nAugust 3\, 9:00am-3:00pm\n\n\n\nInterested in being a vendor at one (or more) of our events? Visit this link to apply!
URL:https://bronkberryfarms.com/event/monthly-craft-vendor-fair-18/
LOCATION:Bronkberry Farms & Greenhouse\, 18061 Bronk Rd\, Plainfield\, IL 60586\, USA
ATTACH;FMTTYPE=image/png:https://bronkberryfarms.com/wp-content/uploads/2024/11/BRONKBERRY-COVER-PHOTOS-7.png
END:VEVENT
END:VCALENDAR