BEGIN:VCALENDAR
VERSION:2.0
PRODID:-//Bronkberry Farms - ECPv6.15.20//NONSGML v1.0//EN
CALSCALE:GREGORIAN
METHOD:PUBLISH
X-WR-CALNAME:Bronkberry Farms
X-ORIGINAL-URL:https://bronkberryfarms.com
X-WR-CALDESC:Events for Bronkberry Farms
REFRESH-INTERVAL;VALUE=DURATION:PT1H
X-Robots-Tag:noindex
X-PUBLISHED-TTL:PT1H
BEGIN:VTIMEZONE
TZID:America/Chicago
BEGIN:DAYLIGHT
TZOFFSETFROM:-0600
TZOFFSETTO:-0500
TZNAME:CDT
DTSTART:20240310T080000
END:DAYLIGHT
BEGIN:STANDARD
TZOFFSETFROM:-0500
TZOFFSETTO:-0600
TZNAME:CST
DTSTART:20241103T070000
END:STANDARD
BEGIN:DAYLIGHT
TZOFFSETFROM:-0600
TZOFFSETTO:-0500
TZNAME:CDT
DTSTART:20250309T080000
END:DAYLIGHT
BEGIN:STANDARD
TZOFFSETFROM:-0500
TZOFFSETTO:-0600
TZNAME:CST
DTSTART:20251102T070000
END:STANDARD
BEGIN:DAYLIGHT
TZOFFSETFROM:-0600
TZOFFSETTO:-0500
TZNAME:CDT
DTSTART:20260308T080000
END:DAYLIGHT
BEGIN:STANDARD
TZOFFSETFROM:-0500
TZOFFSETTO:-0600
TZNAME:CST
DTSTART:20261101T070000
END:STANDARD
END:VTIMEZONE
BEGIN:VEVENT
DTSTART;TZID=America/Chicago:20250806T050000
DTEND;TZID=America/Chicago:20250806T060000
DTSTAMP:20260422T110015
CREATED:20250627T181751Z
LAST-MODIFIED:20250627T181751Z
UID:28490-1754456400-1754460000@bronkberryfarms.com
SUMMARY:Story Time – EVERY WEDNESDAY - Free
DESCRIPTION:STORYTIME! YAY! Grab the kids and come out to listen to story reading\, enjoy an interactive experience\, and then visit the Farm Animals at 10:00 am every Wednesday of our season!
URL:https://bronkberryfarms.com/event/story-time-every-wednesday-free-3/
LOCATION:Bronkberry Farms & Greenhouse\, 18061 Bronk Rd\, Plainfield\, IL 60586\, USA
ATTACH;FMTTYPE=image/png:https://bronkberryfarms.com/wp-content/uploads/2025/06/create-your-own-1920-x-1080-px-1.png
END:VEVENT
BEGIN:VEVENT
DTSTART;TZID=America/Chicago:20250806T133000
DTEND;TZID=America/Chicago:20250806T150000
DTSTAMP:20260422T110015
CREATED:20250722T204304Z
LAST-MODIFIED:20250722T204304Z
UID:28616-1754487000-1754492400@bronkberryfarms.com
SUMMARY:Down of the Farm - Chef Experience
DESCRIPTION:August 6th from 6:30 – 8:00 pm \nAdditional Information Coming!
URL:https://bronkberryfarms.com/event/down-of-the-farm-chef-experience/
END:VEVENT
BEGIN:VEVENT
DTSTART;TZID=America/Chicago:20250806T133000
DTEND;TZID=America/Chicago:20250806T150000
DTSTAMP:20260422T110015
CREATED:20250726T025108Z
LAST-MODIFIED:20250726T025108Z
UID:28628-1754487000-1754492400@bronkberryfarms.com
SUMMARY:Farm to Table Cooking & Tasting Event
DESCRIPTION:BronkFarms Presents a Farm to Table Cooking and Tasting Event featuring Distinguished Chef Greg’O of GREG’O INC \nJoin us for a flavorful and fun-filled culinary adventure that celebrates the season’s freshest fruits\, vegetables\, and herbs—straight from nature to your plate! 🍓🌽🌿 \nThere will some hands-on with interactive cooking stations.\n🥗 Enjoy fresh\, delicious tastings\n💡 Discover simple\, healthier cooking tips you can use every day \nWhether you’re a beginner or a food enthusiast\, this event is perfect for anyone who loves good food and vibrant wellness. Come taste\, learn\, and celebrate the beauty of fresh cooking!\nGregory Johnson Sr.\, affectionately known as Chef Greg’O\, is a visionary leader and culinary expert with over five decades of distinguished experience in the Food Service Industry. As the CEO of GREG’O INC.\, Chef Greg’O has redefined fine dining\, personal chef services\, catering\, and culinary enrichment programming by blending innovation\, wellness\, and community impact. \nABOUT THE CHEF: A proud alumnus of the historic Washburne Trade School\, one of the first culinary arts institutions in the United States\, Chef Greg’O is a retired veteran and lifelong advocate for the transformative power of food. His extensive career as an accomplished chef\, educator\, and lecturer spans universities\, colleges\, public and private schools\, and numerous private clients. \nChef Greg’O’s commitment to social impact shines through GREG’O INC.’s work in underserved communities in Chicago and its surrounding suburbs. The company’s mission addresses food deserts\, empowers at-risk youth\, and promotes culinary literacy\, championing cooking as both a life skill and a viable career path. \nGuided by the belief that “you are what you eat” and inspired by the timeless wisdom to “let food be thy medicine and medicine be thy food\,” GREG’O INC. integrates farm-to-table practices and STEAM-based Culinary Enrichment Programming to promote healthy\, sustainable lifestyles. Through illumination\, enthusiasm\, education\, and engagement\, Chef Greg’O transforms the culinary arts into a powerful tool for empowerment\, ensuring that every meal is a step toward better health\, personal growth\, and opportunity. \n  \nTo guarantee your spot and to ensure we have enough prepared\, please register by purchasing a ticket using this link! \n~~~~~~~~~~~~~~~~~~~~~~~~~~~~~\n>>>>WHEN YOU ARRIVE<<<<\n1. Please check in at the register.\n2. Show your online registration ticket(s).\n3. We will give you an entry ticket.\n4. Bring your entry ticket back to the pavilion to check in with our instructor.\n5. GET CREATIVE AND HAVE FUN!\n~~~~~~~~~~~~~~~~~~~~~~~~~~~~~ \nWe will accept late registration and walk-ins when possible\, depending on current enrollment numbers. Please complete your registration and we will follow up with you via email should we be at capacity for the class and unable to accommodate you. \nCLICK HERE to purchase tickets to this event! \n~~~~~~~~~~~~~~~~~~~~~~~~~~~~~ \nIf you register for a class and are no longer able to attend\, please notify us at bronkberrysite@sbcglobal.net or via Facebook Messenger so that your space can be opened up to someone else. \nPlease add bronkberrysite@sbcglobal.net to your address book\, as sometimes our emails go to promotion or spam tabs/folders. \n~~~~~~~~~~~~~~~~~~~~~~~~~~~~~\nCHECK OUT ALL OUR EVENTS ON FACEBOOK SO YOU DON’T MISS OUT!\n(more being added each week!)\nhttps://www.facebook.com/BronkberryFarms/events
URL:https://bronkberryfarms.com/event/farm-to-table-cooking-tasting-event/
LOCATION:Bronkberry Farms & Greenhouse\, 18061 Bronk Rd\, Plainfield\, IL 60586\, USA
ATTACH;FMTTYPE=image/png:https://bronkberryfarms.com/wp-content/uploads/2025/07/BRONKBERRY-COVER-PHOTOS-30.png
END:VEVENT
END:VCALENDAR