BEGIN:VCALENDAR
VERSION:2.0
PRODID:-//Bronkberry Farms - ECPv6.15.20//NONSGML v1.0//EN
CALSCALE:GREGORIAN
METHOD:PUBLISH
X-WR-CALNAME:Bronkberry Farms
X-ORIGINAL-URL:https://bronkberryfarms.com
X-WR-CALDESC:Events for Bronkberry Farms
REFRESH-INTERVAL;VALUE=DURATION:PT1H
X-Robots-Tag:noindex
X-PUBLISHED-TTL:PT1H
BEGIN:VTIMEZONE
TZID:America/Chicago
BEGIN:DAYLIGHT
TZOFFSETFROM:-0600
TZOFFSETTO:-0500
TZNAME:CDT
DTSTART:20240310T080000
END:DAYLIGHT
BEGIN:STANDARD
TZOFFSETFROM:-0500
TZOFFSETTO:-0600
TZNAME:CST
DTSTART:20241103T070000
END:STANDARD
BEGIN:DAYLIGHT
TZOFFSETFROM:-0600
TZOFFSETTO:-0500
TZNAME:CDT
DTSTART:20250309T080000
END:DAYLIGHT
BEGIN:STANDARD
TZOFFSETFROM:-0500
TZOFFSETTO:-0600
TZNAME:CST
DTSTART:20251102T070000
END:STANDARD
BEGIN:DAYLIGHT
TZOFFSETFROM:-0600
TZOFFSETTO:-0500
TZNAME:CDT
DTSTART:20260308T080000
END:DAYLIGHT
BEGIN:STANDARD
TZOFFSETFROM:-0500
TZOFFSETTO:-0600
TZNAME:CST
DTSTART:20261101T070000
END:STANDARD
END:VTIMEZONE
BEGIN:VEVENT
DTSTART;TZID=America/Chicago:20250820T050000
DTEND;TZID=America/Chicago:20250820T060000
DTSTAMP:20260422T110014
CREATED:20250627T181916Z
LAST-MODIFIED:20250814T001648Z
UID:28494-1755666000-1755669600@bronkberryfarms.com
SUMMARY:Story Time – EVERY WEDNESDAY – Free
DESCRIPTION:STORYTIME! YAY! Grab the kids and come out to listen to story reading\, enjoy an interactive experience\, and then visit the Farm Animals at 10:00 am every Wednesday of our season! \nWant more time on the farm after? We have Storytime crafts most Wednesday’s too! Check out this link HERE to see what we have in store this week!
URL:https://bronkberryfarms.com/event/story-time-every-wednesday-free-5/
ATTACH;FMTTYPE=image/png:https://bronkberryfarms.com/wp-content/uploads/2025/06/create-your-own-1920-x-1080-px-1.png
END:VEVENT
END:VCALENDAR