BEGIN:VCALENDAR
VERSION:2.0
PRODID:-//Bronkberry Farms - ECPv6.15.20//NONSGML v1.0//EN
CALSCALE:GREGORIAN
METHOD:PUBLISH
X-WR-CALNAME:Bronkberry Farms
X-ORIGINAL-URL:https://bronkberryfarms.com
X-WR-CALDESC:Events for Bronkberry Farms
REFRESH-INTERVAL;VALUE=DURATION:PT1H
X-Robots-Tag:noindex
X-PUBLISHED-TTL:PT1H
BEGIN:VTIMEZONE
TZID:America/Chicago
BEGIN:DAYLIGHT
TZOFFSETFROM:-0600
TZOFFSETTO:-0500
TZNAME:CDT
DTSTART:20250309T080000
END:DAYLIGHT
BEGIN:STANDARD
TZOFFSETFROM:-0500
TZOFFSETTO:-0600
TZNAME:CST
DTSTART:20251102T070000
END:STANDARD
BEGIN:DAYLIGHT
TZOFFSETFROM:-0600
TZOFFSETTO:-0500
TZNAME:CDT
DTSTART:20260308T080000
END:DAYLIGHT
BEGIN:STANDARD
TZOFFSETFROM:-0500
TZOFFSETTO:-0600
TZNAME:CST
DTSTART:20261101T070000
END:STANDARD
BEGIN:DAYLIGHT
TZOFFSETFROM:-0600
TZOFFSETTO:-0500
TZNAME:CDT
DTSTART:20270314T080000
END:DAYLIGHT
BEGIN:STANDARD
TZOFFSETFROM:-0500
TZOFFSETTO:-0600
TZNAME:CST
DTSTART:20271107T070000
END:STANDARD
END:VTIMEZONE
BEGIN:VEVENT
DTSTART;TZID=America/Chicago:20260422T100000
DTEND;TZID=America/Chicago:20260422T103000
DTSTAMP:20260422T020139
CREATED:20250627T182519Z
LAST-MODIFIED:20260326T162640Z
UID:28512-1776852000-1776853800@bronkberryfarms.com
SUMMARY:Story Time – EVERY WEDNESDAY – Free
DESCRIPTION:STORYTIME is the best morning on the farm. YAY! Grab the kids and come out to listen to story reading\, enjoy an interactive experience\, and then visit the farm animals at 10:00 am every Wednesday of our season! \nWant more time on the farm after? We have Storytime themed crafts on the 2nd and 4th Wednesday’s of every month. Storytime is FREE and open to all – no sign up required. \nHowever\, if you plan to stay for the craft on the 2nd or 4th weeks\, we do encourage you to sign up and secure your spot so we can ensure there to be sure supplies and plenty of room. \nCheck out this link HERE to see what we have in store this week!
URL:https://bronkberryfarms.com/event/story-time-every-wednesday-free-14/
LOCATION:Bronkberry Farms & Greenhouse\, 18061 Bronk Rd\, Plainfield\, IL 60586\, USA
ATTACH;FMTTYPE=image/png:https://bronkberryfarms.com/wp-content/uploads/2025/06/BRONKBERRY-COVER-PHOTOS-31.png
END:VEVENT
BEGIN:VEVENT
DTSTART;TZID=America/Chicago:20260422T103000
DTEND;TZID=America/Chicago:20260422T123000
DTSTAMP:20260422T020139
CREATED:20251218T013311Z
LAST-MODIFIED:20260326T162601Z
UID:29277-1776853800-1776861000@bronkberryfarms.com
SUMMARY:SILLY FACE- EGG CARTON SEEDNG CLASS
DESCRIPTION:Grass Head Giggles: Egg Carton Creation\nA silly\, hands-on growing craft for early childhood creators 🌱😄\nGrass Head Giggles: Egg Carton Creation is a playful early childhood art and planting class offered as part of our Sprout & Create series on the farm. In this hands-on experience\, little creators will plant grass seeds into egg carton cups\, then decorate their carton with faces and designs—creating a silly “grass head” friend whose hair grows over time. \nThis class blends creativity\, nature\, and laughter\, giving kids a chance to create something fun and watch it grow after they take it home. \n\n✨ FREE Story Time Before Class\nFamilies are invited to join us for a FREE story time at 10:00 am\, held before our craft classes begin. The story is thoughtfully chosen to tie into the day’s growth\, nature\, and imagination theme\, helping children connect storytelling and creativity before starting their project. \n\nWhat Little Creators Will Do\n\n\n🌱 Plant grass seeds in an egg carton creation \n\n\n😄 Decorate faces and designs to create a silly “grass head” \n\n\n🖐️ Explore planting\, design\, and hands-on sensory play \n\n\n✨ Enjoy a playful\, confidence-building creative experience \n\n\nAll materials are provided and thoughtfully selected for early childhood learners. \n\nWhat to Expect\n\n\nA guided early childhood craft and planting class on the farm \n\n\nA warm\, welcoming environment designed for young children \n\n\nSimple instructions with lots of room for imagination and giggles \n\n\nPlease plan stay to engage\, assist\, and enjoy the experience together \n\n\nThis class is designed to be shared\, creating joyful moments for children and their grown-ups. \n\nWho This Class Is For\n\n\nToddlers and preschool-aged children \n\n\nEarly childhood learners \n\n\nCaregivers looking for a playful\, nature-inspired activity \n\n\nFamilies who enjoy silly crafts and hands-on learning \n\n\nWhy You’ll Love It\nGrass Head Giggles is pure early childhood joy. From story time to planting seeds and decorating goofy faces\, it’s a creative experience that continues long after the class ends—watching “hair” grow and smiles grow right along with it. \n👉 Join us for Grass Head Giggles and let creativity (and grass) grow wild. \nTo guarantee your spot and to ensure we have enough materials\, please register by purchasing a ticket using this link! \n~~~~~~~~~~~~~~~~~~~~~~~~~~~~~\n>>>>WHEN YOU ARRIVE<<<<\n1. Please check in at the register.\n2. Show your online registration ticket(s).\n3. We will give you an entry ticket.\n4. Bring your entry ticket back to the pavilion to check in with our instructor.\n5. GET CREATIVE AND HAVE FUN!\n~~~~~~~~~~~~~~~~~~~~~~~~~~~~~ \nWe will accept late registration and walk-ins when possible\, depending on current enrollment numbers. Please complete your registration and we will follow up with you via email should we be at capacity for the class and unable to accommodate you. \nCLICK HERE to purchase tickets to this event! \n~~~~~~~~~~~~~~~~~~~~~~~~~~~~~ \nIf you register for a class and are no longer able to attend\, please notify us at bronkberrysite@sbcglobal.net or via Facebook Messenger so that your space can be opened up to someone else. \nPlease add bronkberrysite@sbcglobal.net to your address book\, as sometimes our emails go to promotion or spam tabs/folders. \n~~~~~~~~~~~~~~~~~~~~~~~~~~~~~\nCHECK OUT ALL OUR EVENTS ON FACEBOOK SO YOU DON’T MISS OUT!\n(more being added each week!)\nhttps://www.facebook.com/BronkberryFarms/events
URL:https://bronkberryfarms.com/event/testing/
LOCATION:Bronkberry Farms & Greenhouse\, 18061 Bronk Rd\, Plainfield\, IL 60586\, USA
ATTACH;FMTTYPE=image/png:https://bronkberryfarms.com/wp-content/uploads/2025/12/BRONKBERRY-COVER-PHOTOS-51.png
END:VEVENT
END:VCALENDAR