BEGIN:VCALENDAR
VERSION:2.0
PRODID:-//Bronkberry Farms - ECPv6.15.20//NONSGML v1.0//EN
CALSCALE:GREGORIAN
METHOD:PUBLISH
X-ORIGINAL-URL:https://bronkberryfarms.com
X-WR-CALDESC:Events for Bronkberry Farms
REFRESH-INTERVAL;VALUE=DURATION:PT1H
X-Robots-Tag:noindex
X-PUBLISHED-TTL:PT1H
BEGIN:VTIMEZONE
TZID:America/Chicago
BEGIN:DAYLIGHT
TZOFFSETFROM:-0600
TZOFFSETTO:-0500
TZNAME:CDT
DTSTART:20250309T080000
END:DAYLIGHT
BEGIN:STANDARD
TZOFFSETFROM:-0500
TZOFFSETTO:-0600
TZNAME:CST
DTSTART:20251102T070000
END:STANDARD
BEGIN:DAYLIGHT
TZOFFSETFROM:-0600
TZOFFSETTO:-0500
TZNAME:CDT
DTSTART:20260308T080000
END:DAYLIGHT
BEGIN:STANDARD
TZOFFSETFROM:-0500
TZOFFSETTO:-0600
TZNAME:CST
DTSTART:20261101T070000
END:STANDARD
BEGIN:DAYLIGHT
TZOFFSETFROM:-0600
TZOFFSETTO:-0500
TZNAME:CDT
DTSTART:20270314T080000
END:DAYLIGHT
BEGIN:STANDARD
TZOFFSETFROM:-0500
TZOFFSETTO:-0600
TZNAME:CST
DTSTART:20271107T070000
END:STANDARD
END:VTIMEZONE
BEGIN:VEVENT
DTSTART;TZID=America/Chicago:20260909T100000
DTEND;TZID=America/Chicago:20260909T103000
DTSTAMP:20260423T170106
CREATED:20260207T040102Z
LAST-MODIFIED:20260326T160834Z
UID:29782-1788948000-1788949800@bronkberryfarms.com
SUMMARY:Story Time – EVERY WEDNESDAY – FREE
DESCRIPTION:STORYTIME is the best morning on the farm. YAY! Grab the kids and come out to listen to story reading\, enjoy an interactive experience\, and then visit the farm animals at 10:00 am EVERY Wednesday of our season! \nWant more time on the farm after? We have Storytime themed crafts on the 2nd and 4th Wednesday’s of every month. Storytime is FREE and open to all – no sign up required. However\, if you plan to stay for the craft on the 2nd or 4th weeks\, we do encourage you to sign up and secure your spot so we can ensure there to be sure supplies and plenty of room. \nCheck out this link HERE to see what we have in store this week!
URL:https://bronkberryfarms.com/event/story-time-every-wednesday-free-34/
LOCATION:Bronkberry Farms & Greenhouse\, 18061 Bronk Rd\, Plainfield\, IL 60586\, USA
ATTACH;FMTTYPE=image/png:https://bronkberryfarms.com/wp-content/uploads/2025/06/BRONKBERRY-COVER-PHOTOS-31.png
END:VEVENT
BEGIN:VEVENT
DTSTART;TZID=America/Chicago:20260909T103000
DTEND;TZID=America/Chicago:20260909T123000
DTSTAMP:20260423T170106
CREATED:20251220T041249Z
LAST-MODIFIED:20260326T160809Z
UID:29493-1788949800-1788957000@bronkberryfarms.com
SUMMARY:CREATE YOUR OWN BARNYARD BUDDY
DESCRIPTION:Barnyard Buddy: Handmade Chicken\nA farm-inspired craft for early childhood creators 🐔✨\nBarnyard Buddy: Handmade Chicken is a playful early childhood art class offered as part of our Sprout & Create series on the farm. In this hands-on experience\, little creators will design their very own chicken buddy using child-friendly materials\, textures\, and lots of imagination. \nInspired by life on the farm\, this class encourages creativity\, confidence\, and connection while celebrating one of our favorite barnyard friends. \n\n✨ FREE Story Time Before Class\nFamilies are invited to join us for a FREE story time at 10:00 am\, held before our craft classes begin. The story is thoughtfully chosen to tie into the day’s barnyard theme\, helping children connect storytelling\, animals\, and creativity before starting their project. \n\nWhat Little Creators Will Do\n\n\n🐔 Create a handmade chicken craft \n\n\n🎨 Explore color\, texture\, and simple design \n\n\n🖐️ Practice fine motor skills through hands-on creativity \n\n\n✨ Enjoy a playful\, farm-inspired art experience \n\n\nAll materials are provided and carefully selected for early childhood learners. \n\nWhat to Expect\n\n\nA guided early childhood craft class on the farm \n\n\nA warm\, welcoming environment designed for young children \n\n\nSimple instructions with plenty of room for imagination \n\n\nPlease plan stay to engage\, assist\, and enjoy the experience together \n\n\nThis class is designed to be shared\, creating meaningful moments for both children and their grown-ups. \n\nWho This Class Is For\n\n\nToddlers and preschool-aged children \n\n\nEarly childhood learners \n\n\nCaregivers looking for a fun\, farm-themed creative experience \n\n\nFamilies who enjoy hands-on learning and seasonal activities \n\n\nWhy You’ll Love It\nBarnyard Buddy is all about celebrating farm life through creativity. From story time to crafting a chicken friend\, this class offers a joyful blend of imagination\, hands-on fun\, and meaningful connection on the farm. \n👉 Join us for Barnyard Buddy: Handmade Chicken and let your little one’s creativity cluck to life.\n \nTo guarantee your spot and to ensure we have enough materials\, please register by purchasing a ticket using this link! \n~~~~~~~~~~~~~~~~~~~~~~~~~~~~~\n>>>>WHEN YOU ARRIVE<<<<\n1. Please check in at the register.\n2. Show your online registration ticket(s).\n3. We will give you an entry ticket.\n4. Bring your entry ticket back to the pavilion to check in with our instructor.\n5. GET CREATIVE AND HAVE FUN!\n~~~~~~~~~~~~~~~~~~~~~~~~~~~~~ \nWe will accept late registration and walk-ins when possible\, depending on current enrollment numbers. Please complete your registration and we will follow up with you via email should we be at capacity for the class and unable to accommodate you. \nCLICK HERE to purchase tickets to this event! \n~~~~~~~~~~~~~~~~~~~~~~~~~~~~~ \nIf you register for a class and are no longer able to attend\, please notify us at bronkberrysite@sbcglobal.net or via Facebook Messenger so that your space can be opened up to someone else. \nPlease add bronkberrysite@sbcglobal.net to your address book\, as sometimes our emails go to promotion or spam tabs/folders. \n~~~~~~~~~~~~~~~~~~~~~~~~~~~~~\nCHECK OUT ALL OUR EVENTS ON FACEBOOK SO YOU DON’T MISS OUT!\n(more being added each week!)\nhttps://www.facebook.com/BronkberryFarms/events
URL:https://bronkberryfarms.com/event/create-your-own-barnyard-buddy/
LOCATION:Bronkberry Farms & Greenhouse\, 18061 Bronk Rd\, Plainfield\, IL 60586\, USA
ATTACH;FMTTYPE=image/png:https://bronkberryfarms.com/wp-content/uploads/2025/12/BRONKBERRY-COVER-PHOTOS-53.png
END:VEVENT
END:VCALENDAR