BEGIN:VCALENDAR
VERSION:2.0
PRODID:-//Bronkberry Farms - ECPv6.15.20//NONSGML v1.0//EN
CALSCALE:GREGORIAN
METHOD:PUBLISH
X-WR-CALNAME:Bronkberry Farms
X-ORIGINAL-URL:https://bronkberryfarms.com
X-WR-CALDESC:Events for Bronkberry Farms
REFRESH-INTERVAL;VALUE=DURATION:PT1H
X-Robots-Tag:noindex
X-PUBLISHED-TTL:PT1H
BEGIN:VTIMEZONE
TZID:America/Chicago
BEGIN:DAYLIGHT
TZOFFSETFROM:-0600
TZOFFSETTO:-0500
TZNAME:CDT
DTSTART:20250309T080000
END:DAYLIGHT
BEGIN:STANDARD
TZOFFSETFROM:-0500
TZOFFSETTO:-0600
TZNAME:CST
DTSTART:20251102T070000
END:STANDARD
BEGIN:DAYLIGHT
TZOFFSETFROM:-0600
TZOFFSETTO:-0500
TZNAME:CDT
DTSTART:20260308T080000
END:DAYLIGHT
BEGIN:STANDARD
TZOFFSETFROM:-0500
TZOFFSETTO:-0600
TZNAME:CST
DTSTART:20261101T070000
END:STANDARD
BEGIN:DAYLIGHT
TZOFFSETFROM:-0600
TZOFFSETTO:-0500
TZNAME:CDT
DTSTART:20270314T080000
END:DAYLIGHT
BEGIN:STANDARD
TZOFFSETFROM:-0500
TZOFFSETTO:-0600
TZNAME:CST
DTSTART:20271107T070000
END:STANDARD
END:VTIMEZONE
BEGIN:VEVENT
DTSTART;TZID=America/Chicago:20260930T100000
DTEND;TZID=America/Chicago:20260930T103000
DTSTAMP:20260423T150744
CREATED:20260207T040237Z
LAST-MODIFIED:20260323T205649Z
UID:29788-1790762400-1790764200@bronkberryfarms.com
SUMMARY:Story Time – EVERY WEDNESDAY – FREE
DESCRIPTION:STORYTIME is the best morning on the farm. YAY! Grab the kids and come out to listen to story reading\, enjoy an interactive experience\, and then visit the farm animals at 10:00 am EVERY Wednesday of our season! \nWant more time on the farm after? We have Storytime themed crafts on the 2nd and 4th Wednesday’s of every month. Storytime is FREE and open to all – no sign up required. However\, if you plan to stay for the craft on the 2nd or 4th weeks\, we do encourage you to sign up and secure your spot so we can ensure there to be sure supplies and plenty of room. \nCheck out this link HERE to see what we have in store this week!
URL:https://bronkberryfarms.com/event/story-time-every-wednesday-free-37/
LOCATION:Bronkberry Farms & Greenhouse\, 18061 Bronk Rd\, Plainfield\, IL 60586\, USA
ATTACH;FMTTYPE=image/png:https://bronkberryfarms.com/wp-content/uploads/2025/06/BRONKBERRY-COVER-PHOTOS-31.png
END:VEVENT
END:VCALENDAR