BEGIN:VCALENDAR
VERSION:2.0
PRODID:-//Bronkberry Farms - ECPv6.15.20//NONSGML v1.0//EN
CALSCALE:GREGORIAN
METHOD:PUBLISH
X-WR-CALNAME:Bronkberry Farms
X-ORIGINAL-URL:https://bronkberryfarms.com
X-WR-CALDESC:Events for Bronkberry Farms
REFRESH-INTERVAL;VALUE=DURATION:PT1H
X-Robots-Tag:noindex
X-PUBLISHED-TTL:PT1H
BEGIN:VTIMEZONE
TZID:America/Chicago
BEGIN:DAYLIGHT
TZOFFSETFROM:-0600
TZOFFSETTO:-0500
TZNAME:CDT
DTSTART:20250309T080000
END:DAYLIGHT
BEGIN:STANDARD
TZOFFSETFROM:-0500
TZOFFSETTO:-0600
TZNAME:CST
DTSTART:20251102T070000
END:STANDARD
BEGIN:DAYLIGHT
TZOFFSETFROM:-0600
TZOFFSETTO:-0500
TZNAME:CDT
DTSTART:20260308T080000
END:DAYLIGHT
BEGIN:STANDARD
TZOFFSETFROM:-0500
TZOFFSETTO:-0600
TZNAME:CST
DTSTART:20261101T070000
END:STANDARD
BEGIN:DAYLIGHT
TZOFFSETFROM:-0600
TZOFFSETTO:-0500
TZNAME:CDT
DTSTART:20270314T080000
END:DAYLIGHT
BEGIN:STANDARD
TZOFFSETFROM:-0500
TZOFFSETTO:-0600
TZNAME:CST
DTSTART:20271107T070000
END:STANDARD
END:VTIMEZONE
BEGIN:VEVENT
DTSTART;TZID=America/Chicago:20261010T040000
DTEND;TZID=America/Chicago:20261010T130000
DTSTAMP:20260423T145825
CREATED:20251230T022949Z
LAST-MODIFIED:20251230T023016Z
UID:29578-1791604800-1791637200@bronkberryfarms.com
SUMMARY:FALL FEST - 2 DAY EVENT
DESCRIPTION:Fall Fest on the Farm\nOctober 10th & 11th\, 2026 🍁🎃\nCelebrate the season at Fall Fest on the Farm\, a joyful two-day fall festival taking place on October 10th and 11th\, 2026. This all-ages event is designed to bring families\, friends\, and the community together for a weekend filled with fall fun\, creativity\, and connection. \nFrom wandering vendor booths to painting pumpkins and hopping on hayrack rides\, Fall Fest is the perfect way to soak up everything we love about autumn. Oh\, and don’t forget our farm grown\, hand dipped caramel apples\, apple cider and pumpkin donuts\, and so much more! Free admission. Free parking. PLENTY OF FUN! \n\nWhat You’ll Experience\n\n\n🍂 A two-day fall festival on the farm \n\n\n🛍️ A curated lineup of local vendors – why not start browsing for holiday shopping too? \n\n\n🍎 Food and seasonal treats available on-site \n\n\n🚜 Hayrack rides for classic fall farm fun \n\n\n🎨 Open pumpkin painting both days \n\n\n🌾 A relaxed\, festive atmosphere for all ages \n\n\nWhether you stay for an hour or make a day of it\, Fall Fest invites you to explore at your own pace and enjoy the simple magic of the season. \n\nPumpkin Painting – Open Both Days 🎨🎃\nPumpkin painting will be available throughout both days of Fall Fest\, offering an open-create experience for kids\, teens\, and adults. Paint a pumpkin your way—simple\, silly\, spooky\, or bold—and take home a festive piece of fall décor made just by you. \nThis drop-in activity is designed to be easy\, playful\, and welcoming for everyone. \n\nWho Fall Fest Is For\n\n\nFamilies and children \n\n\nTeens and adults \n\n\nFriends looking for a fun fall outing \n\n\nAnyone who loves fall festivals\, pumpkins\, and farm experiences \n\n\nFall Fest is intentionally inclusive and encourages everyone to jump in\, get creative\, and enjoy the weekend together.
URL:https://bronkberryfarms.com/event/fall-fest-2-day-event/
LOCATION:Bronkberry Farms & Greenhouse\, 18061 Bronk Rd\, Plainfield\, IL 60586\, USA
ATTACH;FMTTYPE=image/jpeg:https://bronkberryfarms.com/wp-content/uploads/2025/12/BRONKBERRY-COVER-PHOTOS-25.jpg
END:VEVENT
BEGIN:VEVENT
DTSTART;TZID=America/Chicago:20261010T090000
DTEND;TZID=America/Chicago:20261010T180000
DTSTAMP:20260423T145825
CREATED:20251230T014652Z
LAST-MODIFIED:20260323T205422Z
UID:29573-1791622800-1791655200@bronkberryfarms.com
SUMMARY:PUMPKIN PAINTING @ FALL FEST
DESCRIPTION:Pumpkin Painting at Fall Fest\nAn open-create fall experience for all ages 🎃🍂\nDuring Fall Fest on the Farm\, everyone is invited to slow down\, grab a brush\, and get creative at our Pumpkin Painting Area. This open creation experience is available throughout both days of Fall Fest and is designed for kids\, teens\, adults\, and anyone who loves a little creative fun. Be sure to grab your spot so we can plan ahead for supplies! \nThere’s no right or wrong way to paint a pumpkin here. Go classic\, go colorful\, go silly\, spooky\, or sweet. This is a come-and-go activity where imagination leads and the only goal is to enjoy the moment. \n\nHow Pumpkin Painting Works\n\n\n🎨 Open creation pumpkin painting available both days of Fall Fest \n\n\n🎃 Pumpkins provided and ready to paint \n\n\n🍁 Paint a pumpkin your own way—simple or extravagant \n\n\n👨‍👩‍👧‍👦 Perfect for all ages and skill levels \n\n\n⏰ Drop in anytime during the festival \n\n\nThis relaxed format makes pumpkin painting the perfect stop as you explore the rest of Fall Fest. \n\nPart of Fall Fest on the Farm 🍂\nWhile pumpkin painting is happening\, guests can also enjoy everything Fall Fest has to offer\, including: \n\n\n🛍️ Local vendors \n\n\n🍎 Food and seasonal treats \n\n\n🚜 Hayrack rides \n\n\n🌾 A festive\, family-friendly farm atmosphere \n\n\nPumpkin painting fits right into the rhythm of the weekend—create a little\, wander a little\, and soak up the season. \n\nWho This Is For\n\n\nKids\, teens\, and adults \n\n\nFamilies looking for a creative fall activity \n\n\nAnyone attending Fall Fest on the Farm \n\n\nThose who love hands-on\, festive experiences \n\n\nNo experience needed. Just come ready to paint\, laugh\, and enjoy fall.
URL:https://bronkberryfarms.com/event/pumpkin-painting-at-fall-fest/
LOCATION:Bronkberry Farms & Greenhouse\, 18061 Bronk Rd\, Plainfield\, IL 60586\, USA
ATTACH;FMTTYPE=image/png:https://bronkberryfarms.com/wp-content/uploads/2025/12/BRONKBERRY-COVER-PHOTOS-32-1.png
END:VEVENT
BEGIN:VEVENT
DTSTART;TZID=America/Chicago:20261010T090000
DTEND;TZID=America/Chicago:20261010T180000
DTSTAMP:20260423T145825
CREATED:20260212T030020Z
LAST-MODIFIED:20260323T205342Z
UID:29862-1791622800-1791655200@bronkberryfarms.com
SUMMARY:2 - DAY FALL FEST!
DESCRIPTION:Coffee\, Beer\, Wine\, Hard Cider • U-Pick Pumpkin Patch • Hayrack Rides  • Secret Recipe Caramel Apples • Pumpkin Spice & Apple Cider Donuts • Festive Fall Photo Ops •\n\n\nFrom our pumpkin patch\, hayrack rides\, cider donuts\, popcorn\, face painting\, costume contests\, and of course the amazing 60+ vendors all on site…there is something for EVERYONE!\n\nCome for the fun\, stay for the memories!\n\nOur costume contests run 10am\, 12pm\, 2pm & 4pm\n\n\nFREE ADMISSION AND PARKING – COME ON OUT! \nINTERESTED IN BEING A VENDOR AT OUR CRAFT & VENDOR FAIRS? Information and vendor application available here: https://bronkberryfarms.com/craft-fairs/ \n join us to support local businesses. Come talk with vendors of all types of local businesses from home improvement to wellness to event planning & much more! When we shop local\, we support our neighbors. \n\nAdmission into our COMMUNITY EVENTS is ALWAYS FREE!\nWe also host a variety of other events throughout the season.\nSee our EVENT CALENDAR for more information. \n\n2026 Craft & Vendor Fair Dates:\nEvery 3rd Sunday of the month\, May thru October\, 9am – 3pm (unless otherwise noted) \n\nMay 17\nJune 21\nJuly 19\nAugust 16\nSeptember 20\nOctober 10 & 11 – Fall Fest (2-day event)  *please note extended hours 9 am – 6 pm\nOctober 18\nOctober 25 – Last Hurrah & Chili Cook-off\n\n\n2026 Business Expo:\nShopping in our community is more important that ever. So please join us to support local businesses. Come talk with vendors of all types of local businesses from home improvement to wellness to event planning & much more! When we shop local\, we support our neighbors. \n\nSunday\, May 31st\n\n\n2026 Dog Days Craft & Vendor Fair:\nWho doesn’t love their beloved dogs?! Every season\, we have a DOG DAYS event in which customers can bring their dogs along (on a leash\, please) to shop our vendors\, many of them dog-themed! Come and spoil yourself and your pup with all kinds of goodies and spend some time on the farm getting in some movement too. There will even be dogs available for adoption! \n\nSunday\, August 2nd\n\n\n\n\nInterested in being a vendor at one (or more) of our events? Visit this link to apply!
URL:https://bronkberryfarms.com/event/2-day-fall-fest/
LOCATION:Bronkberry Farms & Greenhouse\, 18061 Bronk Rd\, Plainfield\, IL 60586\, USA
ATTACH;FMTTYPE=image/png:https://bronkberryfarms.com/wp-content/uploads/2026/02/BRONKBERRY-COVER-PHOTOS-57.png
END:VEVENT
END:VCALENDAR