BEGIN:VCALENDAR
VERSION:2.0
PRODID:-//Bronkberry Farms - ECPv6.15.20//NONSGML v1.0//EN
CALSCALE:GREGORIAN
METHOD:PUBLISH
X-WR-CALNAME:Bronkberry Farms
X-ORIGINAL-URL:https://bronkberryfarms.com
X-WR-CALDESC:Events for Bronkberry Farms
REFRESH-INTERVAL;VALUE=DURATION:PT1H
X-Robots-Tag:noindex
X-PUBLISHED-TTL:PT1H
BEGIN:VTIMEZONE
TZID:America/Chicago
BEGIN:DAYLIGHT
TZOFFSETFROM:-0600
TZOFFSETTO:-0500
TZNAME:CDT
DTSTART:20200308T080000
END:DAYLIGHT
BEGIN:STANDARD
TZOFFSETFROM:-0500
TZOFFSETTO:-0600
TZNAME:CST
DTSTART:20201101T070000
END:STANDARD
BEGIN:DAYLIGHT
TZOFFSETFROM:-0600
TZOFFSETTO:-0500
TZNAME:CDT
DTSTART:20210314T080000
END:DAYLIGHT
BEGIN:STANDARD
TZOFFSETFROM:-0500
TZOFFSETTO:-0600
TZNAME:CST
DTSTART:20211107T070000
END:STANDARD
BEGIN:DAYLIGHT
TZOFFSETFROM:-0600
TZOFFSETTO:-0500
TZNAME:CDT
DTSTART:20220313T080000
END:DAYLIGHT
BEGIN:STANDARD
TZOFFSETFROM:-0500
TZOFFSETTO:-0600
TZNAME:CST
DTSTART:20221106T070000
END:STANDARD
END:VTIMEZONE
BEGIN:VEVENT
DTSTART;TZID=America/Chicago:20211006T050000
DTEND;TZID=America/Chicago:20211006T053000
DTSTAMP:20260421T180032
CREATED:20210322T020503Z
LAST-MODIFIED:20210322T020503Z
UID:21087-1633496400-1633498200@bronkberryfarms.com
SUMMARY:BOOKS IN THE BARN/STORY TIME
DESCRIPTION:BRING THE KIDS TO THE FARM FOR A BOOK READING\, THEN VISIT THE FARM ANIMALS
URL:https://bronkberryfarms.com/event/books-in-the-barn-story-time-69/
LOCATION:Bronkberry Farms\, 18061 S Bronk Road\, Plainfield\, IL\, 60586
END:VEVENT
BEGIN:VEVENT
DTSTART;TZID=America/Chicago:20211009T040000
DTEND;TZID=America/Chicago:20211009T100000
DTSTAMP:20260421T180032
CREATED:20201119T053054Z
LAST-MODIFIED:20201119T053054Z
UID:20983-1633752000-1633773600@bronkberryfarms.com
SUMMARY:Fall Fest
DESCRIPTION:Sign up to be a vendor at our Fall Fest here.
URL:https://bronkberryfarms.com/event/fall-fest-7/
LOCATION:Bronkberry Farms\, 18061 S Bronk Road\, Plainfield\, IL\, 60586
ORGANIZER;CN="Jennifer Bronk":MAILTO:bronkberrysite@sbcglobal.net
END:VEVENT
BEGIN:VEVENT
DTSTART;TZID=America/Chicago:20211010T040000
DTEND;TZID=America/Chicago:20211010T100000
DTSTAMP:20260421T180032
CREATED:20201119T053003Z
LAST-MODIFIED:20201119T053003Z
UID:20981-1633838400-1633860000@bronkberryfarms.com
SUMMARY:Fall Fest
DESCRIPTION:Sign up to be a vendor at our Fall Fest here.
URL:https://bronkberryfarms.com/event/fall-fest-6/
LOCATION:Bronkberry Farms\, 18061 S Bronk Road\, Plainfield\, IL\, 60586
ORGANIZER;CN="Jennifer Bronk":MAILTO:bronkberrysite@sbcglobal.net
END:VEVENT
BEGIN:VEVENT
DTSTART;TZID=America/Chicago:20211013T050000
DTEND;TZID=America/Chicago:20211013T053000
DTSTAMP:20260421T180032
CREATED:20210322T020609Z
LAST-MODIFIED:20210322T020609Z
UID:21089-1634101200-1634103000@bronkberryfarms.com
SUMMARY:BOOKS IN THE BARN/STORY TIME
DESCRIPTION:BRING THE KIDS TO THE FARM FOR A BOOK READING\, THEN VISIT THE FARM ANIMALS
URL:https://bronkberryfarms.com/event/books-in-the-barn-story-time-70/
LOCATION:Bronkberry Farms\, 18061 S Bronk Road\, Plainfield\, IL\, 60586
END:VEVENT
BEGIN:VEVENT
DTSTART;TZID=America/Chicago:20211017T040000
DTEND;TZID=America/Chicago:20211017T100000
DTSTAMP:20260421T180032
CREATED:20201119T052846Z
LAST-MODIFIED:20201119T052846Z
UID:20977-1634443200-1634464800@bronkberryfarms.com
SUMMARY:Craft Fair
DESCRIPTION:Sign up to be a vendor at the Craft Fair here.
URL:https://bronkberryfarms.com/event/craft-fair-16/
LOCATION:Bronkberry Farms\, 18061 S Bronk Road\, Plainfield\, IL\, 60586
ORGANIZER;CN="Jennifer Bronk":MAILTO:bronkberrysite@sbcglobal.net
END:VEVENT
BEGIN:VEVENT
DTSTART;TZID=America/Chicago:20211020T050000
DTEND;TZID=America/Chicago:20211020T053000
DTSTAMP:20260421T180032
CREATED:20210322T020703Z
LAST-MODIFIED:20210322T020703Z
UID:21091-1634706000-1634707800@bronkberryfarms.com
SUMMARY:BOOKS IN THE BARN/STORY TIME
DESCRIPTION:BRING THE KIDS TO THE FARM FOR A BOOK READING\, THEN VISIT THE FARM ANIMALS
URL:https://bronkberryfarms.com/event/books-in-the-barn-story-time-71/
LOCATION:Bronkberry Farms\, 18061 S Bronk Road\, Plainfield\, IL\, 60586
END:VEVENT
BEGIN:VEVENT
DTSTART;TZID=America/Chicago:20211027T050000
DTEND;TZID=America/Chicago:20211027T053000
DTSTAMP:20260421T180032
CREATED:20210322T020821Z
LAST-MODIFIED:20210322T020821Z
UID:21093-1635310800-1635312600@bronkberryfarms.com
SUMMARY:BOOKS IN THE BARN/STORY TIME
DESCRIPTION:BRING THE KIDS TO THE FARM FOR A BOOK READING\, THEN VISIT THE FARM ANIMALS
URL:https://bronkberryfarms.com/event/books-in-the-barn-story-time-72/
LOCATION:Bronkberry Farms\, 18061 S Bronk Road\, Plainfield\, IL\, 60586
END:VEVENT
END:VCALENDAR