BEGIN:VCALENDAR
VERSION:2.0
PRODID:-//Bronkberry Farms - ECPv6.15.20//NONSGML v1.0//EN
CALSCALE:GREGORIAN
METHOD:PUBLISH
X-ORIGINAL-URL:https://bronkberryfarms.com
X-WR-CALDESC:Events for Bronkberry Farms
REFRESH-INTERVAL;VALUE=DURATION:PT1H
X-Robots-Tag:noindex
X-PUBLISHED-TTL:PT1H
BEGIN:VTIMEZONE
TZID:America/Chicago
BEGIN:DAYLIGHT
TZOFFSETFROM:-0600
TZOFFSETTO:-0500
TZNAME:CDT
DTSTART:20210314T080000
END:DAYLIGHT
BEGIN:STANDARD
TZOFFSETFROM:-0500
TZOFFSETTO:-0600
TZNAME:CST
DTSTART:20211107T070000
END:STANDARD
BEGIN:DAYLIGHT
TZOFFSETFROM:-0600
TZOFFSETTO:-0500
TZNAME:CDT
DTSTART:20220313T080000
END:DAYLIGHT
BEGIN:STANDARD
TZOFFSETFROM:-0500
TZOFFSETTO:-0600
TZNAME:CST
DTSTART:20221106T070000
END:STANDARD
BEGIN:DAYLIGHT
TZOFFSETFROM:-0600
TZOFFSETTO:-0500
TZNAME:CDT
DTSTART:20230312T080000
END:DAYLIGHT
BEGIN:STANDARD
TZOFFSETFROM:-0500
TZOFFSETTO:-0600
TZNAME:CST
DTSTART:20231105T070000
END:STANDARD
END:VTIMEZONE
BEGIN:VEVENT
DTSTART;TZID=America/Chicago:20220706T100000
DTEND;TZID=America/Chicago:20220706T110000
DTSTAMP:20260421T142458
CREATED:20220628T041539Z
LAST-MODIFIED:20220706T130814Z
UID:22637-1657101600-1657105200@bronkberryfarms.com
SUMMARY:Story Time @ The Farm - Free Event
DESCRIPTION:
URL:https://bronkberryfarms.com/event/story-time-the-farm-free-event-2/
END:VEVENT
BEGIN:VEVENT
DTSTART;TZID=America/Chicago:20220713T100000
DTEND;TZID=America/Chicago:20220713T110000
DTSTAMP:20260421T142458
CREATED:20220628T041539Z
LAST-MODIFIED:20220713T144525Z
UID:22640-1657706400-1657710000@bronkberryfarms.com
SUMMARY:Story Time @ The Farm - Free Event
DESCRIPTION:
URL:https://bronkberryfarms.com/event/story-time-the-farm-free-event-3/
END:VEVENT
BEGIN:VEVENT
DTSTART;TZID=America/Chicago:20220717T090000
DTEND;TZID=America/Chicago:20220717T150000
DTSTAMP:20260421T142458
CREATED:20220628T041539Z
LAST-MODIFIED:20220717T153248Z
UID:22641-1658048400-1658070000@bronkberryfarms.com
SUMMARY:Monthly Craft Fair
DESCRIPTION:
URL:https://bronkberryfarms.com/event/monthly-craft-fair/
END:VEVENT
BEGIN:VEVENT
DTSTART;TZID=America/Chicago:20220719T163000
DTEND;TZID=America/Chicago:20220719T203000
DTSTAMP:20260421T142458
CREATED:20220706T130813Z
LAST-MODIFIED:20220719T160853Z
UID:22723-1658248200-1658262600@bronkberryfarms.com
SUMMARY:Bronkberry Farms @ Plainfield Cruise Night
DESCRIPTION:
URL:https://bronkberryfarms.com/event/bronkberry-farms-plainfield-cruise-night/
LOCATION:Plainfield\, IL\, USA
END:VEVENT
BEGIN:VEVENT
DTSTART;TZID=America/Chicago:20220720T084500
DTEND;TZID=America/Chicago:20220720T094500
DTSTAMP:20260421T142458
CREATED:20220706T130813Z
LAST-MODIFIED:20220720T164033Z
UID:22724-1658306700-1658310300@bronkberryfarms.com
SUMMARY:Fit-4-Moms @ Bronkberry Farms
DESCRIPTION:
URL:https://bronkberryfarms.com/event/fit-4-moms-bronkberry-farms/
END:VEVENT
BEGIN:VEVENT
DTSTART;TZID=America/Chicago:20220720T100000
DTEND;TZID=America/Chicago:20220720T110000
DTSTAMP:20260421T142458
CREATED:20220628T041539Z
LAST-MODIFIED:20220720T164033Z
UID:22642-1658311200-1658314800@bronkberryfarms.com
SUMMARY:Story Time @ The Farm - Free Event
DESCRIPTION:
URL:https://bronkberryfarms.com/event/story-time-the-farm-free-event-4/
END:VEVENT
BEGIN:VEVENT
DTSTART;TZID=America/Chicago:20220722T153000
DTEND;TZID=America/Chicago:20220722T173000
DTSTAMP:20260421T142458
CREATED:20220628T041539Z
LAST-MODIFIED:20220722T171951Z
UID:22644-1658503800-1658511000@bronkberryfarms.com
SUMMARY:CHECK DATE Project Workshop - TBD
DESCRIPTION:
URL:https://bronkberryfarms.com/event/check-date-project-workshop-tbd/
LOCATION:Bronkberry Farms & Greenhouse\, 18061 Bronk Rd\, Plainfield\, IL 60586\, USA
END:VEVENT
BEGIN:VEVENT
DTSTART;TZID=America/Chicago:20220723T100000
DTEND;TZID=America/Chicago:20220723T110000
DTSTAMP:20260421T142458
CREATED:20220628T041539Z
LAST-MODIFIED:20220723T173418Z
UID:22645-1658570400-1658574000@bronkberryfarms.com
SUMMARY:Kids’ Craft: Recycled Bird House
DESCRIPTION:Create a beautiful home for your birdie friends using recycled materials and art supplies. \nPaint gets messy\, so wear play clothes. \nTickets: $6
URL:https://bronkberryfarms.com/event/kids-craft-recycled-bird-house/
LOCATION:Bronkberry Farms & Greenhouse\, 18061 Bronk Rd\, Plainfield\, IL 60586\, USA
END:VEVENT
BEGIN:VEVENT
DTSTART;TZID=America/Chicago:20220727T100000
DTEND;TZID=America/Chicago:20220727T110000
DTSTAMP:20260421T142458
CREATED:20220628T041539Z
LAST-MODIFIED:20220727T180201Z
UID:22646-1658916000-1658919600@bronkberryfarms.com
SUMMARY:Story Time @ The Farm - Free Event
DESCRIPTION:
URL:https://bronkberryfarms.com/event/story-time-the-farm-free-event-5/
END:VEVENT
BEGIN:VEVENT
DTSTART;TZID=America/Chicago:20220731T070000
DTEND;TZID=America/Chicago:20220731T140000
DTSTAMP:20260421T142458
CREATED:20220628T041539Z
LAST-MODIFIED:20220731T185056Z
UID:22647-1659250800-1659276000@bronkberryfarms.com
SUMMARY:Bronkberry Farms @ The Vintage Faire
DESCRIPTION:
URL:https://bronkberryfarms.com/event/bronkberry-farms-the-vintage-fair/
END:VEVENT
END:VCALENDAR